BEGIN:VCALENDAR
VERSION:2.0
CALSCALE:GREGORIAN
PRODID:adamgibbons/ics
METHOD:PUBLISH
X-PUBLISHED-TTL:PT1H
BEGIN:VEVENT
UID:52@bootblack.events
SUMMARY:Heart of England Leather Social
DTSTAMP:20260424T181604Z
DTSTART:20241221T193000Z
DTEND:20241221T223000Z
DESCRIPTION:The Heart of England Leather Social - Christmas edition!
URL:https://bootblack.events/event/heart-of-england-leather-social
LOCATION:The Fountain Inn - Bar and Letting Rooms - 102 Wrentham Street\, B
	irmingham B5 6QL
STATUS:CONFIRMED
CATEGORIES:UK,Birmingham
X-ALT-DESC;FMTTYPE=text/html:<p>The Heart of England Leather Social - Chris
	tmas edition!</p>
END:VEVENT
END:VCALENDAR
